Workbook

Sheet Hoja3

Sheet Hoja1 (2)
A1: Código | B1: Tipo | C1: Fecha Emisión | D1: Año | E1: Tema clave | F1: Poblaciones | G1: Grupos Armados Ilegales | H1: Conductas vulneratorias e infracciones al D.I.H. (Advertidas) | I1: Conductas vulneratorias e infracciones al D.I.H. (Identificadas) | J1: Economías Ilegales | K1: Informe de seguimiento | L1: Municipio | M1: cod_dane | N1: Departamento | O1: cod_dpto
A2: 029-19 | B2: Estructural | C2: 43657 | D2: =YEAR(Tabla_Hoja1[[#This Row],[Fecha Emisión]]) -> 2019 | E2: El ELN y las Facciones Armadas Disidentes de las extintas FARC, desde el segundo trimestre de 2018 han iniciado una intensa escalada de violencia contra la Fuerza Pública, las autoridades regionales y locales y la población civil. | F2: Adolescentes; Afrodescendientes; Campesinos; Comerciantes; Personas defensoras de Derechos Humanos, líderes y lideresas sociales; Indígenas; Jóvenes; Miembros o líderes de iglesias o confesiones religiosas; Mujeres; Niños y niñas; Periodistas; Personas en proceso de reincorporación; Población migrante; Reincorporados; Víctimas del conflicto armado; Servidores públicos; Integrantes del Partido Político Comunes | G2: Autodefensas Gaitanistas de Colombia (AGC); ELN; Facciones disidentes de las FARC-EP | H2: Enfrentamientos con interposición de la población civil; Trata de personas ; Combates; Reclutamiento, uso y utilización de niños, niñas y adolescentes; Contaminación por MAP - MUSE – AEI; Desplazamiento forzado; Homicidio; Masacre; Secuestro; Amenazas | I2: Enfrentamientos con interposición de la población civil; Emboscadas; Hostigamiento; Reclutamiento, uso y utilización de niños, niñas y adolescentes; Terrorismo; Contaminación por MAP - MUSE – AEI; Amenazas; Regulaciones a la movilidad; Imposición de horarios | J2: Contrabando; Narcotráfico | K2: Sí | L2: Arauquita | M2: =VLOOKUP(Tabla_Hoja1[[#This Row],[Municipio]],mun!$A$1:$B$1123,2,FALSE) -> 81065 | N2: =VLOOKUP(Tabla_Hoja1[[#This Row],[Municipio]],mun!$A$1:$D$1123,4,FALSE) -> Arauca | O2: =VLOOKUP(Tabla_Hoja1[[#This Row],[Municipio]],mun!$A$1:$D$1123,3,FALSE) -> 81
A3: 029-19 | B3: Estructural | C3: 43657 | D3: =YEAR(Tabla_Hoja1[[#This Row],[Fecha Emisión]]) -> 2019 | E3: El ELN y las Facciones Armadas Disidentes de las extintas FARC, desde el segundo trimestre de 2018 han iniciado una intensa escalada de violencia contra la Fuerza Pública, las autoridades regionales y locales y la población civil. | F3: Adolescentes; Afrodescendientes; Campesinos; Comerciantes; Personas defensoras de Derechos Humanos, líderes y lideresas sociales; Indígenas; Jóvenes; Miembros o líderes de iglesias o confesiones religiosas; Mujeres; Niños y niñas; Periodistas; Personas en proceso de reincorporación; Población migrante; Reincorporados; Víctimas del conflicto armado; Servidores públicos; Integrantes del Partido Político Comunes | G3: Autodefensas Gaitanistas de Colombia (AGC); ELN; Facciones disidentes de las FARC-EP | H3: Enfrentamientos con interposición de la población civil; Trata de personas ; Combates; Reclutamiento, uso y utilización de niños, niñas y adolescentes; Contaminación por MAP - MUSE – AEI; Desplazamiento forzado; Homicidio; Masacre; Secuestro; Amenazas | I3: Enfrentamientos con interposición de la población civil; Emboscadas; Hostigamiento; Reclutamiento, uso y utilización de niños, niñas y adolescentes; Terrorismo; Contaminación por MAP - MUSE – AEI; Amenazas; Regulaciones a la movilidad; Imposición de horarios | J3: Contrabando; Narcotráfico | K3: Sí | L3: Fortul | M3: =VLOOKUP(Tabla_Hoja1[[#This Row],[Municipio]],mun!$A$1:$B$1123,2,FALSE) -> 81300 | N3: =VLOOKUP(Tabla_Hoja1[[#This Row],[Municipio]],mun!$A$1:$D$1123,4,FALSE) -> Arauca | O3: =VLOOKUP(Tabla_Hoja1[[#This Row],[Municipio]],mun!$A$1:$D$1123,3,FALSE) -> 81
A4: 029-19 | B4: Estructural | C4: 43657 | D4: =YEAR(Tabla_Hoja1[[#This Row],[Fecha Emisión]]) -> 2019 | E4: El ELN y las Facciones Armadas Disidentes de las extintas FARC, desde el segundo trimestre de 2018 han iniciado una intensa escalada de violencia contra la Fuerza Pública, las autoridades regionales y locales y la población civil. | F4: Adolescentes; Afrodescendientes; Campesinos; Comerciantes; Personas defensoras de Derechos Humanos, líderes y lideresas sociales; Indígenas; Jóvenes; Miembros o líderes de iglesias o confesiones religiosas; Mujeres; Niños y niñas; Periodistas; Personas en proceso de reincorporación; Población migrante; Reincorporados; Víctimas del conflicto armado; Servidores públicos; Integrantes del Partido Político Comunes | G4: Autodefensas Gaitanistas de Colombia (AGC); ELN; Facciones disidentes de las FARC-EP | H4: Enfrentamientos con interposición de la población civil; Trata de personas ; Combates; Reclutamiento, uso y utilización de niños, niñas y adolescentes; Contaminación por MAP - MUSE – AEI; Desplazamiento forzado; Homicidio; Masacre; Secuestro; Amenazas | I4: Enfrentamientos con interposición de la población civil; Emboscadas; Hostigamiento; Reclutamiento, uso y utilización de niños, niñas y adolescentes; Terrorismo; Contaminación por MAP - MUSE – AEI; Amenazas; Regulaciones a la movilidad; Imposición de horarios | J4: Contrabando; Narcotráfico | K4: Sí | L4: Saravena | M4: =VLOOKUP(Tabla_Hoja1[[#This Row],[Municipio]],mun!$A$1:$B$1123,2,FALSE) -> 81736 | N4: =VLOOKUP(Tabla_Hoja1[[#This Row],[Municipio]],mun!$A$1:$D$1123,4,FALSE) -> Arauca | O4: =VLOOKUP(Tabla_Hoja1[[#This Row],[Municipio]],mun!$A$1:$D$1123,3,FALSE) -> 81
A5: 029-19 | B5: Estructural | C5: 43657 | D5: =YEAR(Tabla_Hoja1[[#This Row],[Fecha Emisión]]) -> 2019 | E5: El ELN y las Facciones Armadas Disidentes de las extintas FARC, desde el segundo trimestre de 2018 han iniciado una intensa escalada de violencia contra la Fuerza Pública, las autoridades regionales y locales y la población civil. | F5: Adolescentes; Afrodescendientes; Campesinos; Comerciantes; Personas defensoras de Derechos Humanos, líderes y lideresas sociales; Indígenas; Jóvenes; Miembros o líderes de iglesias o confesiones religiosas; Mujeres; Niños y niñas; Periodistas; Personas en proceso de reincorporación; Población migrante; Reincorporados; Víctimas del conflicto armado; Servidores públicos; Integrantes del Partido Político Comunes | G5: Autodefensas Gaitanistas de Colombia (AGC); ELN; Facciones disidentes de las FARC-EP | H5: Enfrentamientos con interposición de la población civil; Trata de personas ; Combates; Reclutamiento, uso y utilización de niños, niñas y adolescentes; Contaminación por MAP - MUSE – AEI; Desplazamiento forzado; Homicidio; Masacre; Secuestro; Amenazas | I5: Enfrentamientos con interposición de la población civil; Emboscadas; Hostigamiento; Reclutamiento, uso y utilización de niños, niñas y adolescentes; Terrorismo; Contaminación por MAP - MUSE – AEI; Amenazas; Regulaciones a la movilidad; Imposición de horarios | J5: Contrabando; Narcotráfico | K5: Sí | L5: Tame | M5: =VLOOKUP(Tabla_Hoja1[[#This Row],[Municipio]],mun!$A$1:$B$1123,2,FALSE) -> 81794 | N5: =VLOOKUP(Tabla_Hoja1[[#This Row],[Municipio]],mun!$A$1:$D$1123,4,FALSE) -> Arauca | O5: =VLOOKUP(Tabla_Hoja1[[#This Row],[Municipio]],mun!$A$1:$D$1123,3,FALSE) -> 81
A6: 044-19 | B6: Estructural | C6: 43768 | D6: =YEAR(Tabla_Hoja1[[#This Row],[Fecha Emisión]]) -> 2019 | E6: El contexto de amenaza se determina por el accionar de grupos armados ilegales como las AGC y estructuras armadas ilegales como la Oficina Caribe y Los Pachenca. Existen diversas formas de relacionamiento entre estas y así también escenarios de disputa. | F6: Adolescentes; Afrodescendientes; Autoridades étnicas de gobierno; Campesinos; Comerciantes; Personas defensoras de Derechos Humanos, líderes y lideresas sociales; Docentes; Indígenas; Jóvenes; Mujeres; Niños y niñas; Personas con Orientación Sexual e Identidad de Género Diversas; Periodistas; Población migrante; Servidores públicos; Transportadores; Víctimas del conflicto armado; Miembros de Juntas de Acción Comunal; Población socialmente estigmatizada | G6: Autodefensas Gaitanistas de Colombia (AGC); Los Pachenca; La Oficina ; Autodefensas Conquistadoras de la Sierra | H6: Masacre; Enfrentamientos con interposición de la población civil; Reclutamiento, uso y utilización de niños, niñas y adolescentes; Contaminación por MAP - MUSE – AEI; Desaparición forzada; Desplazamiento forzado; Confinamiento; Homicidio; Violencia basada en genero; Violencia sexual | I6: Desplazamiento forzado; Confinamiento; Extorsión; Violencia basada en genero; Amenazas; Regulaciones a la movilidad; Racismo | J6: Narcotráfico | K6: Sí | L6: Aracataca | M6: =VLOOKUP(Tabla_Hoja1[[#This Row],[Municipio]],mun!$A$1:$B$1123,2,FALSE) -> 47053 | N6: =VLOOKUP(Tabla_Hoja1[[#This Row],[Municipio]],mun!$A$1:$D$1123,4,FALSE) -> Magdalena | O6: =VLOOKUP(Tabla_Hoja1[[#This Row],[Municipio]],mun!$A$1:$D$1123,3,FALSE) -> 47
A7: 044-19 | B7: Estructural | C7: 43768 | D7: =YEAR(Tabla_Hoja1[[#This Row],[Fecha Emisión]]) -> 2019 | E7: El contexto de amenaza se determina por el accionar de grupos armados ilegales como las AGC y estructuras armadas ilegales como la Oficina Caribe y Los Pachenca. Existen diversas formas de relacionamiento entre estas y así también escenarios de disputa. | F7: Adolescentes; Afrodescendientes; Autoridades étnicas de gobierno; Campesinos; Comerciantes; Personas defensoras de Derechos Humanos, líderes y lideresas sociales; Docentes; Indígenas; Jóvenes; Mujeres; Niños y niñas; Personas con Orientación Sexual e Identidad de Género Diversas; Periodistas; Población migrante; Servidores públicos; Transportadores; Víctimas del conflicto armado; Miembros de Juntas de Acción Comunal; Población socialmente estigmatizada | G7: Autodefensas Gaitanistas de Colombia (AGC); Los Pachenca; La Oficina ; Autodefensas Conquistadoras de la Sierra | H7: Masacre; Enfrentamientos con interposición de la población civil; Reclutamiento, uso y utilización de niños, niñas y adolescentes; Contaminación por MAP - MUSE – AEI; Desaparición forzada; Desplazamiento forzado; Confinamiento; Homicidio; Violencia basada en genero; Violencia sexual | I7: Desplazamiento forzado; Confinamiento; Extorsión; Violencia basada en genero; Amenazas; Regulaciones a la movilidad; Racismo | J7: Narcotráfico | K7: Sí | L7: Ciénaga | M7: =VLOOKUP(Tabla_Hoja1[[#This Row],[Municipio]],mun!$A$1:$B$1123,2,FALSE) -> 47189 | N7: =VLOOKUP(Tabla_Hoja1[[#This Row],[Municipio]],mun!$A$1:$D$1123,4,FALSE) -> Magdalena | O7: =VLOOKUP(Tabla_Hoja1[[#This Row],[Municipio]],mun!$A$1:$D$1123,3,FALSE) -> 47
A8: 044-19 | B8: Estructural | C8: 43768 | D8: =YEAR(Tabla_Hoja1[[#This Row],[Fecha Emisión]]) -> 2019 | E8: El contexto de amenaza se determina por el accionar de grupos armados ilegales como las AGC y estructuras armadas ilegales como la Oficina Caribe y Los Pachenca. Existen diversas formas de relacionamiento entre estas y así también escenarios de disputa. | F8: Adolescentes; Afrodescendientes; Autoridades étnicas de gobierno; Campesinos; Comerciantes; Personas defensoras de Derechos Humanos, líderes y lideresas sociales; Docentes; Indígenas; Jóvenes; Mujeres; Niños y niñas; Personas con Orientación Sexual e Identidad de Género Diversas; Periodistas; Población migrante; Servidores públicos; Transportadores; Víctimas del conflicto armado; Miembros de Juntas de Acción Comunal; Población socialmente estigmatizada | G8: Autodefensas Gaitanistas de Colombia (AGC); Los Pachenca; La Oficina ; Autodefensas Conquistadoras de la Sierra | H8: Masacre; Enfrentamientos con interposición de la población civil; Reclutamiento, uso y utilización de niños, niñas y adolescentes; Contaminación por MAP - MUSE – AEI; Desaparición forzada; Desplazamiento forzado; Confinamiento; Homicidio; Violencia basada en genero; Violencia sexual | I8: Desplazamiento forzado; Confinamiento; Extorsión; Violencia basada en genero; Amenazas; Regulaciones a la movilidad; Racismo | J8: Narcotráfico | K8: Sí | L8: Fundación | M8: =VLOOKUP(Tabla_Hoja1[[#This Row],[Municipio]],mun!$A$1:$B$1123,2,FALSE) -> 47288 | N8: =VLOOKUP(Tabla_Hoja1[[#This Row],[Municipio]],mun!$A$1:$D$1123,4,FALSE) -> Magdalena | O8: =VLOOKUP(Tabla_Hoja1[[#This Row],[Municipio]],mun!$A$1:$D$1123,3,FALSE) -> 47
A9: 044-19 | B9: Estructural | C9: 43768 | D9: =YEAR(Tabla_Hoja1[[#This Row],[Fecha Emisión]]) -> 2019 | E9: El contexto de amenaza se determina por el accionar de grupos armados ilegales como las AGC y estructuras armadas ilegales como la Oficina Caribe y Los Pachenca. Existen diversas formas de relacionamiento entre estas y así también escenarios de disputa. | F9: Adolescentes; Afrodescendientes; Autoridades étnicas de gobierno; Campesinos; Comerciantes; Personas defensoras de Derechos Humanos, líderes y lideresas sociales; Docentes; Indígenas; Jóvenes; Mujeres; Niños y niñas; Personas con Orientación Sexual e Identidad de Género Diversas; Periodistas; Población migrante; Servidores públicos; Transportadores; Víctimas del conflicto armado; Miembros de Juntas de Acción Comunal; Población socialmente estigmatizada | G9: Autodefensas Gaitanistas de Colombia (AGC); Los Pachenca; La Oficina ; Autodefensas Conquistadoras de la Sierra | H9: Masacre; Enfrentamientos con interposición de la población civil; Reclutamiento, uso y utilización de niños, niñas y adolescentes; Contaminación por MAP - MUSE – AEI; Desaparición forzada; Desplazamiento forzado; Confinamiento; Homicidio; Violencia basada en genero; Violencia sexual | I9: Desplazamiento forzado; Confinamiento; Extorsión; Violencia basada en genero; Amenazas; Regulaciones a la movilidad; Racismo | J9: Narcotráfico | K9: Sí | L9: Santa Marta | M9: =VLOOKUP(Tabla_Hoja1[[#This Row],[Municipio]],mun!$A$1:$B$1123,2,FALSE) -> 47001 | N9: =VLOOKUP(Tabla_Hoja1[[#This Row],[Municipio]],mun!$A$1:$D$1123,4,FALSE) -> Magdalena | O9: =VLOOKUP(Tabla_Hoja1[[#This Row],[Municipio]],mun!$A$1:$D$1123,3,FALSE) -> 47
A10: 044-19 | B10: Estructural | C10: 43768 | D10: =YEAR(Tabla_Hoja1[[#This Row],[Fecha Emisión]]) -> 2019 | E10: El contexto de amenaza se determina por el accionar de grupos armados ilegales como las AGC y estructuras armadas ilegales como la Oficina Caribe y Los Pachenca. Existen diversas formas de relacionamiento entre estas y así también escenarios de disputa. | F10: Adolescentes; Afrodescendientes; Autoridades étnicas de gobierno; Campesinos; Comerciantes; Personas defensoras de Derechos Humanos, líderes y lideresas sociales; Docentes; Indígenas; Jóvenes; Mujeres; Niños y niñas; Personas con Orientación Sexual e Identidad de Género Diversas; Periodistas; Población migrante; Servidores públicos; Transportadores; Víctimas del conflicto armado; Miembros de Juntas de Acción Comunal; Población socialmente estigmatizada | G10: Autodefensas Gaitanistas de Colombia (AGC); Los Pachenca; La Oficina ; Autodefensas Conquistadoras de la Sierra | H10: Masacre; Enfrentamientos con interposición de la población civil; Reclutamiento, uso y utilización de niños, niñas y adolescentes; Contaminación por MAP - MUSE – AEI; Desaparición forzada; Desplazamiento forzado; Confinamiento; Homicidio; Violencia basada en genero; Violencia sexual | I10: Desplazamiento forzado; Confinamiento; Extorsión; Violencia basada en genero; Amenazas; Regulaciones a la movilidad; Racismo | J10: Narcotráfico | K10: Sí | L10: Zona Bananera | M10: =VLOOKUP(Tabla_Hoja1[[#This Row],[Municipio]],mun!$A$1:$B$1123,2,FALSE) -> 47980 | N10: =VLOOKUP(Tabla_Hoja1[[#This Row],[Municipio]],mun!$A$1:$D$1123,4,FALSE) -> Magdalena | O10: =VLOOKUP(Tabla_Hoja1[[#This Row],[Municipio]],mun!$A$1:$D$1123,3,FALSE) -> 47
A11: 046-19 | B11: Estructural | C11: 43777 | D11: =YEAR(Tabla_Hoja1[[#This Row],[Fecha Emisión]]) -> 2019 | E11: El escenario de riesgo se configura por el control ejercido por parte de las autodenominadas AGC, las cuales instrumentalizan, se articulan o cooptan estructuras y bandas delincuenciales locales. | F11: Víctimas del conflicto armado; Adolescentes; Comerciantes; Contratistas; Personas defensoras de Derechos Humanos, líderes y lideresas sociales; Indígenas; Mujeres; Niños y niñas; Personas con Orientación Sexual e Identidad de Género Diversas; Periodistas; Población migrante; Personas en ejercicio de la prostitución; Servidores públicos; Personas en situación de calle | G11: Águilas negras; Autodefensas Gaitanistas de Colombia (AGC); ELN; Los Pascuales; Los Boyacos; Grupos Armados de Crimen Organizado | H11: Reclutamiento, uso y utilización de niños, niñas y adolescentes; Desplazamiento forzado; Homicidio; Tortura, tratos inhumanos, crueles o degradantes; Violencia sexual; Amenazas; Masacre; Homicidio múltiple | I11: Reclutamiento, uso y utilización de niños, niñas y adolescentes; Homicidio; Tortura, tratos inhumanos, crueles o degradantes; Violencia basada en genero; Amenazas | J11: Narcotráfico; Contrabando | K11: Sí | L11: Bogotá, D.C. | M11: =VLOOKUP(Tabla_Hoja1[[#This Row],[Municipio]],mun!$A$1:$B$1123,2,FALSE) -> 11001 | N11: =VLOOKUP(Tabla_Hoja1[[#This Row],[Municipio]],mun!$A$1:$D$1123,4,FALSE) -> Bogotá, D.C. | O11: =VLOOKUP(Tabla_Hoja1[[#This Row],[Municipio]],mun!$A$1:$D$1123,3,FALSE) -> 11
A12: 034-20 | B12: Estructural | C12: 44047 | D12: =YEAR(Tabla_Hoja1[[#This Row],[Fecha Emisión]]) -> 2020 | E12: El escenario de riesgo está determinado por la presencia y el accionar del ELN y la confrontación violenta que en la actualidad libran el ELN y el EPL. | F12: Adolescentes; Comerciantes; Personas defensoras de Derechos Humanos, líderes y lideresas sociales; Estudiantes; Jóvenes; Miembros de Juntas de Acción Comunal; Mujeres; Niños y niñas; Periodistas; Personas en proceso de reincorporación; Población migrante; Servidores públicos; Transportadores; Personas en situación de calle | G12: ELN; EPL; Facciones disidentes de las FARC-EP | H12: Reclutamiento, uso y utilización de niños, niñas y adolescentes; Contaminación por MAP - MUSE – AEI; Desaparición forzada; Desplazamiento forzado; Masacre; Violencia sexual; Amenazas; Homicidio selectivo; Homicidio múltiple; Enfrentamientos con interposición de la población civil | I12: Reclutamiento, uso y utilización de niños, niñas y adolescentes; Contaminación por MAP - MUSE – AEI; Desplazamiento forzado; Confinamiento; Extorsión; Secuestro; Violencia sexual; Amenazas; Trata de personas ; Regulaciones a la movilidad; Homicidio selectivo; Homicidio múltiple; Discriminación | J12: Narcotráfico; Minería ilegal; Contrabando | K12: Sí | L12: Ocaña | M12: =VLOOKUP(Tabla_Hoja1[[#This Row],[Municipio]],mun!$A$1:$B$1123,2,FALSE) -> 54498 | N12: =VLOOKUP(Tabla_Hoja1[[#This Row],[Municipio]],mun!$A$1:$D$1123,4,FALSE) -> Norte de Santander | O12: =VLOOKUP(Tabla_Hoja1[[#This Row],[Municipio]],mun!$A$1:$D$1123,3,FALSE) -> 54
A13: 041-20 | B13: Estructural | C13: 44068 | D13: =YEAR(Tabla_Hoja1[[#This Row],[Fecha Emisión]]) -> 2020 | E13: El escenario de riesgo se configura a partir del proceso expansivo de las autodenominadas AGC y la incursión de presuntos emisarios carteles extranjeros en la región, mediante la transformación de sus formas de relacionamiento y negociaciones. | F13: Adolescentes; Afrodescendientes; Comerciantes; Personas defensoras de Derechos Humanos, líderes y lideresas sociales; Estudiantes; Hombres; Indígenas; Jóvenes; Miembros de Juntas de Acción Comunal; Miembros o líderes de organizaciones políticas; Miembros o líderes de sindicatos; Mujeres; Personas con Orientación Sexual e Identidad de Género Diversas; Periodistas; Población migrante; Servidores públicos; Víctimas del conflicto armado | G13: Águilas negras; Autodefensas Gaitanistas de Colombia (AGC); La Cordillera; La Oficina del Valle de Aburrá; Los Paisas; Grupos Armados de Crimen Organizado; Actores armados transnacionales | H13: Reclutamiento, uso y utilización de niños, niñas y adolescentes; Desplazamiento forzado; Homicidio; Tortura, tratos inhumanos, crueles o degradantes; Trata de personas ; Enfrentamientos con interposición de la población civil; Violencia sexual; Masacre; Homicidio múltiple | I13: Reclutamiento, uso y utilización de niños, niñas y adolescentes; Contaminación por MAP - MUSE – AEI; Desaparición forzada; Desplazamiento forzado; Homicidio; Amenazas; Trata de personas ; Regulaciones a la movilidad; Imposición normas de conducta y/o pautas de comportamiento; Violencia sexual; Extorsión; Confinamiento; Masacre; Homicidio múltiple; Violencia basada en genero; Feminicidio | J13: Narcotráfico; Préstamos gota a gota | K13: Sí | L13: Manizales | M13: =VLOOKUP(Tabla_Hoja1[[#This Row],[Municipio]],mun!$A$1:$B$1123,2,FALSE) -> 17001 | N13: =VLOOKUP(Tabla_Hoja1[[#This Row],[Municipio]],mun!$A$1:$D$1123,4,FALSE) -> Caldas | O13: =VLOOKUP(Tabla_Hoja1[[#This Row],[Municipio]],mun!$A$1:$D$1123,3,FALSE) -> 17
... A122: 027-24 | B122: Estructural | C122: 45645 | D122: =YEAR(Tabla_Hoja1[[#This Row],[Fecha Emisión]]) -> 2024 | E122: El escenario de riesgo se configura por la presencia e influencia del ELN en la zona rural de San José de Cúcuta y el municipio de Puerto Santander; la creciente criminalidad organizada en San José de Cúcuta, Villa del Rosario y Los Patios, así como la presencia del Ejército Gaitanista de Colombia (EGC) y las facciones disidentes de las antiguas FARC-EP en San José de Cúcuta, Villa del Rosario y Los Patios. | F122: Mujeres; Personas con Orientación Sexual e Identidad de Género Diversas; Niños y niñas; Adolescentes; Jóvenes; Afrodescendientes; Indígenas; Rrom; Comerciantes; Campesinos; Docentes; Estudiantes; Mineros; Periodistas; Transportadores; Servidores públicos; Personas defensoras de Derechos Humanos, líderes y lideresas sociales; Miembros o líderes de iglesias o confesiones religiosas; Miembros o líderes de sindicatos; Población migrante; Víctimas del conflicto armado; Miembros de Juntas de Acción Comunal; Personas en proceso de reincorporación; Población socialmente estigmatizada | G122: ELN; Facciones disidentes de las FARC-EP; Autodefensas Gaitanistas de Colombia (AGC); Grupos Armados de Crimen Organizado; EPL; Actores armados transnacionales | H122: Desaparición forzada; Amenazas; Homicidio selectivo; Extorsión; Trata de personas ; Tráfico de migrantes | I122: Desaparición forzada; Secuestro; Amenazas; Homicidio selectivo; Reclutamiento, uso y utilización de niños, niñas y adolescentes; Desplazamiento forzado; Extorsión; Trata de personas ; Imposición normas de conducta y/o pautas de comportamiento; Tráfico de migrantes; Homicidio múltiple; Violencia basada en genero; Demarcación del territorio alusiva a Actores Armados no Estatales; Explotación sexual comercial de niños, niñas y adolescentes; Violencia sexual | J122: Narcotráfico; Contrabando | K122: No | L122: Villa del Rosario | M122: =VLOOKUP(Tabla_Hoja1[[#This Row],[Municipio]],mun!$A$1:$B$1123,2,FALSE) -> 54874 | N122: =VLOOKUP(Tabla_Hoja1[[#This Row],[Municipio]],mun!$A$1:$D$1123,4,FALSE) -> Norte de Santander | O122: =VLOOKUP(Tabla_Hoja1[[#This Row],[Municipio]],mun!$A$1:$D$1123,3,FALSE) -> 54

Sheet Hoja5
A3: Año | B3: cod_dpto | C3: Departamento | D3: Cuenta de Código
A4: 2019 | B4: 11 | C4: Bogotá, D.C. | D4: 1
A5: 2019 | B5: 47 | C5: Magdalena | D5: 5
A6: 2019 | B6: 81 | C6: Arauca | D6: 4
A7: 2020 | B7: 5 | C7: Antioquia | D7: 7
A8: 2020 | B8: 17 | C8: Caldas | D8: 1
A9: 2020 | B9: 54 | C9: Norte de Santander | D9: 1
A10: 2020 | B10: 66 | C10: Risaralda | D10: 1
A11: 2021 | B11: 81 | C11: Arauca | D11: 2
A12: 2022 | B12: 5 | C12: Antioquia | D12: 1
A13: 2022 | B13: 68 | C13: Santander | D13: 3
A14: 2022 | B14: 76 | C14: Valle del Cauca | D14: 1
A15: 2022 | B15: 97 | C15: Vaupés | D15: 2
... A34: 2024 | B34: 91 | C34: Amazonas | D34: 9
A35: Total general | D35: 121

Sheet Hoja6
A1: Año | B1: Municipio | C1: cod_dane | D1: Cuenta de Código
A2: 2019 | B2: Aracataca | C2: 47053 | D2: 1
A3: 2019 | B3: Arauquita | C3: 81065 | D3: 1
A4: 2019 | B4: Bogotá, D.C. | C4: 11001 | D4: 1
A5: 2019 | B5: Ciénaga | C5: 47189 | D5: 1
A6: 2019 | B6: Fortul | C6: 81300 | D6: 1
A7: 2019 | B7: Fundación | C7: 47288 | D7: 1
A8: 2019 | B8: Santa Marta | C8: 47001 | D8: 1
A9: 2019 | B9: Saravena | C9: 81736 | D9: 1
A10: 2019 | B10: Tame | C10: 81794 | D10: 1
A11: 2019 | B11: Zona Bananera | C11: 47980 | D11: 1
A12: 2020 | B12: Armenia | C12: 5059 | D12: 1
A13: 2020 | B13: Cáceres | C13: 5120 | D13: 1
... A121: 2024 | B121: Villa del Rosario | C121: 54874 | D121: 1
A122: Total general | D122: 121

Sheet Hoja4
A1: Código | B1: Tipo | C1: Fecha Emisión | D1: Año | E1: Tema clave | F1: Poblaciones | G1: Grupos Armados Ilegales | H1: Conductas vulneratorias e infracciones al D.I.H. (Advertidas) | I1: Conductas vulneratorias e infracciones al D.I.H. (Identificadas) | J1: Economías Ilegales | K1: Informe de seguimiento | L1: Municipio | M1: cod_dane | N1: Departamento | O1: cod_dpto
A2: 029-19 | B2: Estructural | C2: 43657 | D2: 2019 | E2: El ELN y las Facciones Armadas Disidentes de las extintas FARC, desde el segundo trimestre de 2018 han iniciado una intensa escalada de violencia contra la Fuerza Pública, las autoridades regionales y locales y la población civil. | F2: Adolescentes; Afrodescendientes; Campesinos; Comerciantes; Personas defensoras de Derechos Humanos, líderes y lideresas sociales; Indígenas; Jóvenes; Miembros o líderes de iglesias o confesiones religiosas; Mujeres; Niños y niñas; Periodistas; Personas en proceso de reincorporación; Población migrante; Reincorporados; Víctimas del conflicto armado; Servidores públicos; Integrantes del Partido Político Comunes | G2: Autodefensas Gaitanistas de Colombia (AGC); ELN; Facciones disidentes de las FARC-EP | H2: Enfrentamientos con interposición de la población civil; Trata de personas ; Combates; Reclutamiento, uso y utilización de niños, niñas y adolescentes; Contaminación por MAP - MUSE – AEI; Desplazamiento forzado; Homicidio; Masacre; Secuestro; Amenazas | I2: Enfrentamientos con interposición de la población civil; Emboscadas; Hostigamiento; Reclutamiento, uso y utilización de niños, niñas y adolescentes; Terrorismo; Contaminación por MAP - MUSE – AEI; Amenazas; Regulaciones a la movilidad; Imposición de horarios | J2: Contrabando; Narcotráfico | K2: Sí | L2: Arauquita | M2: 81065 | N2: Arauca | O2: 81
A3: 029-19 | B3: Estructural | C3: 43657 | D3: 2019 | E3: El ELN y las Facciones Armadas Disidentes de las extintas FARC, desde el segundo trimestre de 2018 han iniciado una intensa escalada de violencia contra la Fuerza Pública, las autoridades regionales y locales y la población civil. | F3: Adolescentes; Afrodescendientes; Campesinos; Comerciantes; Personas defensoras de Derechos Humanos, líderes y lideresas sociales; Indígenas; Jóvenes; Miembros o líderes de iglesias o confesiones religiosas; Mujeres; Niños y niñas; Periodistas; Personas en proceso de reincorporación; Población migrante; Reincorporados; Víctimas del conflicto armado; Servidores públicos; Integrantes del Partido Político Comunes | G3: Autodefensas Gaitanistas de Colombia (AGC); ELN; Facciones disidentes de las FARC-EP | H3: Enfrentamientos con interposición de la población civil; Trata de personas ; Combates; Reclutamiento, uso y utilización de niños, niñas y adolescentes; Contaminación por MAP - MUSE – AEI; Desplazamiento forzado; Homicidio; Masacre; Secuestro; Amenazas | I3: Enfrentamientos con interposición de la población civil; Emboscadas; Hostigamiento; Reclutamiento, uso y utilización de niños, niñas y adolescentes; Terrorismo; Contaminación por MAP - MUSE – AEI; Amenazas; Regulaciones a la movilidad; Imposición de horarios | J3: Contrabando; Narcotráfico | K3: Sí | L3: Fortul | M3: 81300 | N3: Arauca | O3: 81
A4: 029-19 | B4: Estructural | C4: 43657 | D4: 2019 | E4: El ELN y las Facciones Armadas Disidentes de las extintas FARC, desde el segundo trimestre de 2018 han iniciado una intensa escalada de violencia contra la Fuerza Pública, las autoridades regionales y locales y la población civil. | F4: Adolescentes; Afrodescendientes; Campesinos; Comerciantes; Personas defensoras de Derechos Humanos, líderes y lideresas sociales; Indígenas; Jóvenes; Miembros o líderes de iglesias o confesiones religiosas; Mujeres; Niños y niñas; Periodistas; Personas en proceso de reincorporación; Población migrante; Reincorporados; Víctimas del conflicto armado; Servidores públicos; Integrantes del Partido Político Comunes | G4: Autodefensas Gaitanistas de Colombia (AGC); ELN; Facciones disidentes de las FARC-EP | H4: Enfrentamientos con interposición de la población civil; Trata de personas ; Combates; Reclutamiento, uso y utilización de niños, niñas y adolescentes; Contaminación por MAP - MUSE – AEI; Desplazamiento forzado; Homicidio; Masacre; Secuestro; Amenazas | I4: Enfrentamientos con interposición de la población civil; Emboscadas; Hostigamiento; Reclutamiento, uso y utilización de niños, niñas y adolescentes; Terrorismo; Contaminación por MAP - MUSE – AEI; Amenazas; Regulaciones a la movilidad; Imposición de horarios | J4: Contrabando; Narcotráfico | K4: Sí | L4: Saravena | M4: 81736 | N4: Arauca | O4: 81
A5: 029-19 | B5: Estructural | C5: 43657 | D5: 2019 | E5: El ELN y las Facciones Armadas Disidentes de las extintas FARC, desde el segundo trimestre de 2018 han iniciado una intensa escalada de violencia contra la Fuerza Pública, las autoridades regionales y locales y la población civil. | F5: Adolescentes; Afrodescendientes; Campesinos; Comerciantes; Personas defensoras de Derechos Humanos, líderes y lideresas sociales; Indígenas; Jóvenes; Miembros o líderes de iglesias o confesiones religiosas; Mujeres; Niños y niñas; Periodistas; Personas en proceso de reincorporación; Población migrante; Reincorporados; Víctimas del conflicto armado; Servidores públicos; Integrantes del Partido Político Comunes | G5: Autodefensas Gaitanistas de Colombia (AGC); ELN; Facciones disidentes de las FARC-EP | H5: Enfrentamientos con interposición de la población civil; Trata de personas ; Combates; Reclutamiento, uso y utilización de niños, niñas y adolescentes; Contaminación por MAP - MUSE – AEI; Desplazamiento forzado; Homicidio; Masacre; Secuestro; Amenazas | I5: Enfrentamientos con interposición de la población civil; Emboscadas; Hostigamiento; Reclutamiento, uso y utilización de niños, niñas y adolescentes; Terrorismo; Contaminación por MAP - MUSE – AEI; Amenazas; Regulaciones a la movilidad; Imposición de horarios | J5: Contrabando; Narcotráfico | K5: Sí | L5: Tame | M5: 81794 | N5: Arauca | O5: 81
A6: 044-19 | B6: Estructural | C6: 43768 | D6: 2019 | E6: El contexto de amenaza se determina por el accionar de grupos armados ilegales como las AGC y estructuras armadas ilegales como la Oficina Caribe y Los Pachenca. Existen diversas formas de relacionamiento entre estas y así también escenarios de disputa. | F6: Adolescentes; Afrodescendientes; Autoridades étnicas de gobierno; Campesinos; Comerciantes; Personas defensoras de Derechos Humanos, líderes y lideresas sociales; Docentes; Indígenas; Jóvenes; Mujeres; Niños y niñas; Personas con Orientación Sexual e Identidad de Género Diversas; Periodistas; Población migrante; Servidores públicos; Transportadores; Víctimas del conflicto armado; Miembros de Juntas de Acción Comunal; Población socialmente estigmatizada | G6: Autodefensas Gaitanistas de Colombia (AGC); Los Pachenca; La Oficina ; Autodefensas Conquistadoras de la Sierra | H6: Masacre; Enfrentamientos con interposición de la población civil; Reclutamiento, uso y utilización de niños, niñas y adolescentes; Contaminación por MAP - MUSE – AEI; Desaparición forzada; Desplazamiento forzado; Confinamiento; Homicidio; Violencia basada en genero; Violencia sexual | I6: Desplazamiento forzado; Confinamiento; Extorsión; Violencia basada en genero; Amenazas; Regulaciones a la movilidad; Racismo | J6: Narcotráfico | K6: Sí | L6: Aracataca | M6: 47053 | N6: Magdalena | O6: 47
A7: 044-19 | B7: Estructural | C7: 43768 | D7: 2019 | E7: El contexto de amenaza se determina por el accionar de grupos armados ilegales como las AGC y estructuras armadas ilegales como la Oficina Caribe y Los Pachenca. Existen diversas formas de relacionamiento entre estas y así también escenarios de disputa. | F7: Adolescentes; Afrodescendientes; Autoridades étnicas de gobierno; Campesinos; Comerciantes; Personas defensoras de Derechos Humanos, líderes y lideresas sociales; Docentes; Indígenas; Jóvenes; Mujeres; Niños y niñas; Personas con Orientación Sexual e Identidad de Género Diversas; Periodistas; Población migrante; Servidores públicos; Transportadores; Víctimas del conflicto armado; Miembros de Juntas de Acción Comunal; Población socialmente estigmatizada | G7: Autodefensas Gaitanistas de Colombia (AGC); Los Pachenca; La Oficina ; Autodefensas Conquistadoras de la Sierra | H7: Masacre; Enfrentamientos con interposición de la población civil; Reclutamiento, uso y utilización de niños, niñas y adolescentes; Contaminación por MAP - MUSE – AEI; Desaparición forzada; Desplazamiento forzado; Confinamiento; Homicidio; Violencia basada en genero; Violencia sexual | I7: Desplazamiento forzado; Confinamiento; Extorsión; Violencia basada en genero; Amenazas; Regulaciones a la movilidad; Racismo | J7: Narcotráfico | K7: Sí | L7: Ciénaga | M7: 47189 | N7: Magdalena | O7: 47
A8: 044-19 | B8: Estructural | C8: 43768 | D8: 2019 | E8: El contexto de amenaza se determina por el accionar de grupos armados ilegales como las AGC y estructuras armadas ilegales como la Oficina Caribe y Los Pachenca. Existen diversas formas de relacionamiento entre estas y así también escenarios de disputa. | F8: Adolescentes; Afrodescendientes; Autoridades étnicas de gobierno; Campesinos; Comerciantes; Personas defensoras de Derechos Humanos, líderes y lideresas sociales; Docentes; Indígenas; Jóvenes; Mujeres; Niños y niñas; Personas con Orientación Sexual e Identidad de Género Diversas; Periodistas; Población migrante; Servidores públicos; Transportadores; Víctimas del conflicto armado; Miembros de Juntas de Acción Comunal; Población socialmente estigmatizada | G8: Autodefensas Gaitanistas de Colombia (AGC); Los Pachenca; La Oficina ; Autodefensas Conquistadoras de la Sierra | H8: Masacre; Enfrentamientos con interposición de la población civil; Reclutamiento, uso y utilización de niños, niñas y adolescentes; Contaminación por MAP - MUSE – AEI; Desaparición forzada; Desplazamiento forzado; Confinamiento; Homicidio; Violencia basada en genero; Violencia sexual | I8: Desplazamiento forzado; Confinamiento; Extorsión; Violencia basada en genero; Amenazas; Regulaciones a la movilidad; Racismo | J8: Narcotráfico | K8: Sí | L8: Fundación | M8: 47288 | N8: Magdalena | O8: 47
A9: 044-19 | B9: Estructural | C9: 43768 | D9: 2019 | E9: El contexto de amenaza se determina por el accionar de grupos armados ilegales como las AGC y estructuras armadas ilegales como la Oficina Caribe y Los Pachenca. Existen diversas formas de relacionamiento entre estas y así también escenarios de disputa. | F9: Adolescentes; Afrodescendientes; Autoridades étnicas de gobierno; Campesinos; Comerciantes; Personas defensoras de Derechos Humanos, líderes y lideresas sociales; Docentes; Indígenas; Jóvenes; Mujeres; Niños y niñas; Personas con Orientación Sexual e Identidad de Género Diversas; Periodistas; Población migrante; Servidores públicos; Transportadores; Víctimas del conflicto armado; Miembros de Juntas de Acción Comunal; Población socialmente estigmatizada | G9: Autodefensas Gaitanistas de Colombia (AGC); Los Pachenca; La Oficina ; Autodefensas Conquistadoras de la Sierra | H9: Masacre; Enfrentamientos con interposición de la población civil; Reclutamiento, uso y utilización de niños, niñas y adolescentes; Contaminación por MAP - MUSE – AEI; Desaparición forzada; Desplazamiento forzado; Confinamiento; Homicidio; Violencia basada en genero; Violencia sexual | I9: Desplazamiento forzado; Confinamiento; Extorsión; Violencia basada en genero; Amenazas; Regulaciones a la movilidad; Racismo | J9: Narcotráfico | K9: Sí | L9: Santa Marta | M9: 47001 | N9: Magdalena | O9: 47
A10: 044-19 | B10: Estructural | C10: 43768 | D10: 2019 | E10: El contexto de amenaza se determina por el accionar de grupos armados ilegales como las AGC y estructuras armadas ilegales como la Oficina Caribe y Los Pachenca. Existen diversas formas de relacionamiento entre estas y así también escenarios de disputa. | F10: Adolescentes; Afrodescendientes; Autoridades étnicas de gobierno; Campesinos; Comerciantes; Personas defensoras de Derechos Humanos, líderes y lideresas sociales; Docentes; Indígenas; Jóvenes; Mujeres; Niños y niñas; Personas con Orientación Sexual e Identidad de Género Diversas; Periodistas; Población migrante; Servidores públicos; Transportadores; Víctimas del conflicto armado; Miembros de Juntas de Acción Comunal; Población socialmente estigmatizada | G10: Autodefensas Gaitanistas de Colombia (AGC); Los Pachenca; La Oficina ; Autodefensas Conquistadoras de la Sierra | H10: Masacre; Enfrentamientos con interposición de la población civil; Reclutamiento, uso y utilización de niños, niñas y adolescentes; Contaminación por MAP - MUSE – AEI; Desaparición forzada; Desplazamiento forzado; Confinamiento; Homicidio; Violencia basada en genero; Violencia sexual | I10: Desplazamiento forzado; Confinamiento; Extorsión; Violencia basada en genero; Amenazas; Regulaciones a la movilidad; Racismo | J10: Narcotráfico | K10: Sí | L10: Zona Bananera | M10: 47980 | N10: Magdalena | O10: 47
A11: 046-19 | B11: Estructural | C11: 43777 | D11: 2019 | E11: El escenario de riesgo se configura por el control ejercido por parte de las autodenominadas AGC, las cuales instrumentalizan, se articulan o cooptan estructuras y bandas delincuenciales locales. | F11: Víctimas del conflicto armado; Adolescentes; Comerciantes; Contratistas; Personas defensoras de Derechos Humanos, líderes y lideresas sociales; Indígenas; Mujeres; Niños y niñas; Personas con Orientación Sexual e Identidad de Género Diversas; Periodistas; Población migrante; Personas en ejercicio de la prostitución; Servidores públicos; Personas en situación de calle | G11: Águilas negras; Autodefensas Gaitanistas de Colombia (AGC); ELN; Los Pascuales; Los Boyacos; Grupos Armados de Crimen Organizado | H11: Reclutamiento, uso y utilización de niños, niñas y adolescentes; Desplazamiento forzado; Homicidio; Tortura, tratos inhumanos, crueles o degradantes; Violencia sexual; Amenazas; Masacre; Homicidio múltiple | I11: Reclutamiento, uso y utilización de niños, niñas y adolescentes; Homicidio; Tortura, tratos inhumanos, crueles o degradantes; Violencia basada en genero; Amenazas | J11: Narcotráfico; Contrabando | K11: Sí | L11: Bogotá, D.C. | M11: 11001 | N11: Bogotá, D.C. | O11: 11
A12: 034-20 | B12: Estructural | C12: 44047 | D12: 2020 | E12: El escenario de riesgo está determinado por la presencia y el accionar del ELN y la confrontación violenta que en la actualidad libran el ELN y el EPL. | F12: Adolescentes; Comerciantes; Personas defensoras de Derechos Humanos, líderes y lideresas sociales; Estudiantes; Jóvenes; Miembros de Juntas de Acción Comunal; Mujeres; Niños y niñas; Periodistas; Personas en proceso de reincorporación; Población migrante; Servidores públicos; Transportadores; Personas en situación de calle | G12: ELN; EPL; Facciones disidentes de las FARC-EP | H12: Reclutamiento, uso y utilización de niños, niñas y adolescentes; Contaminación por MAP - MUSE – AEI; Desaparición forzada; Desplazamiento forzado; Masacre; Violencia sexual; Amenazas; Homicidio selectivo; Homicidio múltiple; Enfrentamientos con interposición de la población civil | I12: Reclutamiento, uso y utilización de niños, niñas y adolescentes; Contaminación por MAP - MUSE – AEI; Desplazamiento forzado; Confinamiento; Extorsión; Secuestro; Violencia sexual; Amenazas; Trata de personas ; Regulaciones a la movilidad; Homicidio selectivo; Homicidio múltiple; Discriminación | J12: Narcotráfico; Minería ilegal; Contrabando | K12: Sí | L12: Ocaña | M12: 54498 | N12: Norte de Santander | O12: 54
A13: 041-20 | B13: Estructural | C13: 44068 | D13: 2020 | E13: El escenario de riesgo se configura a partir del proceso expansivo de las autodenominadas AGC y la incursión de presuntos emisarios carteles extranjeros en la región, mediante la transformación de sus formas de relacionamiento y negociaciones. | F13: Adolescentes; Afrodescendientes; Comerciantes; Personas defensoras de Derechos Humanos, líderes y lideresas sociales; Estudiantes; Hombres; Indígenas; Jóvenes; Miembros de Juntas de Acción Comunal; Miembros o líderes de organizaciones políticas; Miembros o líderes de sindicatos; Mujeres; Personas con Orientación Sexual e Identidad de Género Diversas; Periodistas; Población migrante; Servidores públicos; Víctimas del conflicto armado | G13: Águilas negras; Autodefensas Gaitanistas de Colombia (AGC); La Cordillera; La Oficina del Valle de Aburrá; Los Paisas; Grupos Armados de Crimen Organizado; Actores armados transnacionales | H13: Reclutamiento, uso y utilización de niños, niñas y adolescentes; Desplazamiento forzado; Homicidio; Tortura, tratos inhumanos, crueles o degradantes; Trata de personas ; Enfrentamientos con interposición de la población civil; Violencia sexual; Masacre; Homicidio múltiple | I13: Reclutamiento, uso y utilización de niños, niñas y adolescentes; Contaminación por MAP - MUSE – AEI; Desaparición forzada; Desplazamiento forzado; Homicidio; Amenazas; Trata de personas ; Regulaciones a la movilidad; Imposición normas de conducta y/o pautas de comportamiento; Violencia sexual; Extorsión; Confinamiento; Masacre; Homicidio múltiple; Violencia basada en genero; Feminicidio | J13: Narcotráfico; Préstamos gota a gota | K13: Sí | L13: Manizales | M13: 17001 | N13: Caldas | O13: 17
... A122: 027-24 | B122: Estructural | C122: 45645 | D122: 2024 | E122: El escenario de riesgo se configura por la presencia e influencia del ELN en la zona rural de San José de Cúcuta y el municipio de Puerto Santander; la creciente criminalidad organizada en San José de Cúcuta, Villa del Rosario y Los Patios, así como la presencia del Ejército Gaitanista de Colombia (EGC) y las facciones disidentes de las antiguas FARC-EP en San José de Cúcuta, Villa del Rosario y Los Patios. | F122: Mujeres; Personas con Orientación Sexual e Identidad de Género Diversas; Niños y niñas; Adolescentes; Jóvenes; Afrodescendientes; Indígenas; Rrom; Comerciantes; Campesinos; Docentes; Estudiantes; Mineros; Periodistas; Transportadores; Servidores públicos; Personas defensoras de Derechos Humanos, líderes y lideresas sociales; Miembros o líderes de iglesias o confesiones religiosas; Miembros o líderes de sindicatos; Población migrante; Víctimas del conflicto armado; Miembros de Juntas de Acción Comunal; Personas en proceso de reincorporación; Población socialmente estigmatizada | G122: ELN; Facciones disidentes de las FARC-EP; Autodefensas Gaitanistas de Colombia (AGC); Grupos Armados de Crimen Organizado; EPL; Actores armados transnacionales | H122: Desaparición forzada; Amenazas; Homicidio selectivo; Extorsión; Trata de personas ; Tráfico de migrantes | I122: Desaparición forzada; Secuestro; Amenazas; Homicidio selectivo; Reclutamiento, uso y utilización de niños, niñas y adolescentes; Desplazamiento forzado; Extorsión; Trata de personas ; Imposición normas de conducta y/o pautas de comportamiento; Tráfico de migrantes; Homicidio múltiple; Violencia basada en genero; Demarcación del territorio alusiva a Actores Armados no Estatales; Explotación sexual comercial de niños, niñas y adolescentes; Violencia sexual | J122: Narcotráfico; Contrabando | K122: No | L122: Villa del Rosario | M122: 54874 | N122: Norte de Santander | O122: 54

Sheet mun
A1: MUNICIPIO | B1: cod_municipio | C1: COD_DPTAL | D1: DPTO
A2: Medellín | B2: 5001 | C2: 05 | D2: Antioquia
A3: Abejorral | B3: 5002 | C3: 05 | D3: Antioquia
A4: Abriaquí | B4: 5004 | C4: 05 | D4: Antioquia
A5: Alejandría | B5: 5021 | C5: 05 | D5: Antioquia
A6: Amagá | B6: 5030 | C6: 05 | D6: Antioquia
A7: Amalfi | B7: 5031 | C7: 05 | D7: Antioquia
A8: Andes | B8: 5034 | C8: 05 | D8: Antioquia
A9: Angelópolis | B9: 5036 | C9: 05 | D9: Antioquia
A10: Angostura | B10: 5038 | C10: 05 | D10: Antioquia
A11: Anorí | B11: 5040 | C11: 05 | D11: Antioquia
A12: Santafé de Antioquia | B12: 5042 | C12: 05 | D12: Antioquia
A13: Anzá | B13: 5044 | C13: 05 | D13: Antioquia
... A1123: Cumaribo | B1123: 99773 | C1123: 99 | D1123: Vichada

Sheet Hoja1
